BEGIN:VCALENDAR
VERSION:2.0
PRODID:-//Comics Crushing Cancer - ECPv6.15.20//NONSGML v1.0//EN
CALSCALE:GREGORIAN
METHOD:PUBLISH
X-ORIGINAL-URL:https://comicscrushingcancer.org
X-WR-CALDESC:Events for Comics Crushing Cancer
REFRESH-INTERVAL;VALUE=DURATION:PT1H
X-Robots-Tag:noindex
X-PUBLISHED-TTL:PT1H
BEGIN:VTIMEZONE
TZID:America/New_York
BEGIN:DAYLIGHT
TZOFFSETFROM:-0500
TZOFFSETTO:-0400
TZNAME:EDT
DTSTART:20170312T070000
END:DAYLIGHT
BEGIN:STANDARD
TZOFFSETFROM:-0400
TZOFFSETTO:-0500
TZNAME:EST
DTSTART:20171105T060000
END:STANDARD
BEGIN:DAYLIGHT
TZOFFSETFROM:-0500
TZOFFSETTO:-0400
TZNAME:EDT
DTSTART:20180311T070000
END:DAYLIGHT
BEGIN:STANDARD
TZOFFSETFROM:-0400
TZOFFSETTO:-0500
TZNAME:EST
DTSTART:20181104T060000
END:STANDARD
BEGIN:DAYLIGHT
TZOFFSETFROM:-0500
TZOFFSETTO:-0400
TZNAME:EDT
DTSTART:20190310T070000
END:DAYLIGHT
BEGIN:STANDARD
TZOFFSETFROM:-0400
TZOFFSETTO:-0500
TZNAME:EST
DTSTART:20191103T060000
END:STANDARD
BEGIN:DAYLIGHT
TZOFFSETFROM:-0500
TZOFFSETTO:-0400
TZNAME:EDT
DTSTART:20200308T070000
END:DAYLIGHT
BEGIN:STANDARD
TZOFFSETFROM:-0400
TZOFFSETTO:-0500
TZNAME:EST
DTSTART:20201101T060000
END:STANDARD
BEGIN:DAYLIGHT
TZOFFSETFROM:-0500
TZOFFSETTO:-0400
TZNAME:EDT
DTSTART:20210314T070000
END:DAYLIGHT
BEGIN:STANDARD
TZOFFSETFROM:-0400
TZOFFSETTO:-0500
TZNAME:EST
DTSTART:20211107T060000
END:STANDARD
BEGIN:DAYLIGHT
TZOFFSETFROM:-0500
TZOFFSETTO:-0400
TZNAME:EDT
DTSTART:20220313T070000
END:DAYLIGHT
BEGIN:STANDARD
TZOFFSETFROM:-0400
TZOFFSETTO:-0500
TZNAME:EST
DTSTART:20221106T060000
END:STANDARD
BEGIN:DAYLIGHT
TZOFFSETFROM:-0500
TZOFFSETTO:-0400
TZNAME:EDT
DTSTART:20230312T070000
END:DAYLIGHT
BEGIN:STANDARD
TZOFFSETFROM:-0400
TZOFFSETTO:-0500
TZNAME:EST
DTSTART:20231105T060000
END:STANDARD
END:VTIMEZONE
BEGIN:VEVENT
DTSTART;TZID=America/New_York:20220708T190000
DTEND;TZID=America/New_York:20220708T220000
DTSTAMP:20260419T085532
CREATED:20220429T201057Z
LAST-MODIFIED:20220607T205125Z
UID:890-1657306800-1657317600@comicscrushingcancer.org
SUMMARY:Cobra Kai's Bret Ernst Headlines Comics Crushing Cancer
DESCRIPTION:Back by popular demand\, Cobra Kai’s Bret Ernst takes the Comics Crushing Cancer main stage in July! Being Italian\, coming of age\, marriage and dating; Bret Ernst doesn’t skip a beat! This show will sell out so get your tickets now for a VIP experience with Bret Ernst! \nDoor open at 7pm\, show starts at 8pm. Table service provided for food and bar! \nBuy Tickets  Buy Table \n\n  \n \n  \nBuy Table \n  \n 
URL:https://comicscrushingcancer.org/event/coming-in-june-colin-kane-headlines-comics-crushing-cancer/
LOCATION:Farmer’s Table  North Palm Beach\, 951 US-1 N.\, North Palm Beach\, Florida\, 33408
ATTACH;FMTTYPE=image/jpeg:https://comicscrushingcancer.org/wp-content/uploads/2022/04/LettuceTV-1920x1080-2.jpg
ORGANIZER;CN="Comics Crushing Cancer":MAILTO:jen@jenhellmancomedy.com
END:VEVENT
BEGIN:VEVENT
DTSTART;TZID=America/New_York:20220521T193000
DTEND;TZID=America/New_York:20220521T210000
DTSTAMP:20260419T085532
CREATED:20220429T200008Z
LAST-MODIFIED:20220521T001843Z
UID:881-1653161400-1653166800@comicscrushingcancer.org
SUMMARY:Devin Siebold At The Speakeasy\, POSTPONED
DESCRIPTION:America’s favorite\, sarcastic classroom teacher is coming to West Palm Beach and the laughs will not fail! Devin Siebold is nationally recognized for his stand up comedy and his podcast\, “Crying In My Car:A podcast for teachers”! A Great night of laughs for anyone who has kids\, teaches kids or has ever seen kids at an exclusive private speakeasy in downtown West Palm Beach. \nUndisclosed location and password for entry will be provided the day before! \n  \nBuy Tickets
URL:https://comicscrushingcancer.org/event/devin-siebold-at-the-speakeasy-downtown-west-palm-beach/
LOCATION:Florida
ATTACH;FMTTYPE=image/jpeg:https://comicscrushingcancer.org/wp-content/uploads/2022/04/thumbnail_Screen-Shot-2022-04-29-at-12.15.39-PM.jpg
ORGANIZER;CN="Comics Crushing Cancer":MAILTO:jen@jenhellmancomedy.com
END:VEVENT
BEGIN:VEVENT
DTSTART;TZID=America/New_York:20220520T190000
DTEND;TZID=America/New_York:20220520T220000
DTSTAMP:20260419T085532
CREATED:20220407T204812Z
LAST-MODIFIED:20220410T141254Z
UID:856-1653073200-1653084000@comicscrushingcancer.org
SUMMARY:Devin Siebold Headlines Comics Crushing Cancer
DESCRIPTION:America’s favorite\, sarcastic classroom teacher is coming to North Palm Beach and the laughs will not fail! Devin Siebold is nationally recognized for his stand up comedy and his podcast\, “Crying In My Car:A podcast for teachers”! A Great night of laughs for anyone who has kids\, teaches kids or has ever seen kids! \n  \n  \nBuy Tickets \n  \nBuy Table
URL:https://comicscrushingcancer.org/event/devin-siebold-headlines-comics-crushing-cancer/
LOCATION:Farmer’s Table  North Palm Beach\, 951 US-1 N.\, North Palm Beach\, Florida\, 33408
ATTACH;FMTTYPE=image/jpeg:https://comicscrushingcancer.org/wp-content/uploads/2022/04/DevinTV-1920x1080-1.jpg
ORGANIZER;CN="Comics Crushing Cancer":MAILTO:jen@jenhellmancomedy.com
END:VEVENT
BEGIN:VEVENT
DTSTART;TZID=America/New_York:20220325T190000
DTEND;TZID=America/New_York:20220325T220000
DTSTAMP:20260419T085532
CREATED:20220221T214513Z
LAST-MODIFIED:20220221T220150Z
UID:836-1648234800-1648245600@comicscrushingcancer.org
SUMMARY:Greg Hahn Headlines Comics Crushing Cancer
DESCRIPTION:Known for his high energy style\, Greg Hahn leaves audiences with side pains from laughter! Hahn has been a frequent guest on the Rob and Tom show and has also appeared on Late Night with Conan O’Brien in addition to a number of other appearances on Comedy Central. Join us for a great night of comedy benefitting Comics Crushing Cancer\, a 501(c)3 that helps women with all of the personal costs associated with having breast cancer! \nBuy Tickets  Sponsor A Table
URL:https://comicscrushingcancer.org/event/greg-hahn-headlines-comics-crushing-cancer/
LOCATION:Farmer’s Table  North Palm Beach\, 951 US-1 N.\, North Palm Beach\, Florida\, 33408
ORGANIZER;CN="Comics Crushing Cancer":MAILTO:jen@jenhellmancomedy.com
END:VEVENT
BEGIN:VEVENT
DTSTART;TZID=America/New_York:20220217T190000
DTEND;TZID=America/New_York:20220217T210000
DTSTAMP:20260419T085532
CREATED:20211005T155149Z
LAST-MODIFIED:20220209T002219Z
UID:749-1645124400-1645131600@comicscrushingcancer.org
SUMMARY:Adam Ferrara Headlines Comics Crushing Cancer
DESCRIPTION:We are thrilled to have Adam Ferrara take the stage to support Comics Crushing Cancer in Jupiter\, FL! You’ve seen him in hits like Rescue Me and Nurse Jackie. Car enthusaists love Adam as the host of the sensation Top Gear and in February he will be right here to headline Comics Crushing Cance live and close up at the Twisted Tuna in Jupiter. We are so excited to have his support!  \nRESERVE A TABLE AS A CORPORATE SPONSOR \nBUY TICKETS HERE \n  \n \n  \n 
URL:https://comicscrushingcancer.org/event/adam-ferrara-headlines-comics-crushing-cancer/
LOCATION:Twisted Tuna\, 353 S US-1\, Jupiter\, Florida\, 33477\, United States
ATTACH;FMTTYPE=image/jpeg:https://comicscrushingcancer.org/wp-content/uploads/2021/10/5ef27d2e04df1.image_.jpg
ORGANIZER;CN="Comics Crushing Cancer":MAILTO:jen@jenhellmancomedy.com
END:VEVENT
BEGIN:VEVENT
DTSTART;TZID=America/New_York:20220204T203000
DTEND;TZID=America/New_York:20220204T220000
DTSTAMP:20260419T085532
CREATED:20220120T203902Z
LAST-MODIFIED:20220127T005021Z
UID:819-1644006600-1644012000@comicscrushingcancer.org
SUMMARY:Exclusive Evening with Bret Ernst at a Private Speakeasy
DESCRIPTION:Comics Crushing Cancer presents this exclusive evening with Cobra Kai’s\, Bret Ernst\, at an undisclosed private location in West Palm Beach. Limited to 40 guests\, Bret Ernst will bring his Vegas residency performance to our special audience benefitting Comics Crushing Cancer. Tickets must be purchased in advance and confirmed guests will be given the West Palm Beach speakeasy location details and password for entry! \nBuy Tickets \n  \n 
URL:https://comicscrushingcancer.org/event/bret-ernst/
LOCATION:Florida
ATTACH;FMTTYPE=image/png:https://comicscrushingcancer.org/wp-content/uploads/2022/01/Comedy-Store-Hallway.png
ORGANIZER;CN="Comics Crushing Cancer":MAILTO:jen@jenhellmancomedy.com
END:VEVENT
BEGIN:VEVENT
DTSTART;TZID=America/New_York:20220120T190000
DTEND;TZID=America/New_York:20220120T220000
DTSTAMP:20260419T085532
CREATED:20211005T153137Z
LAST-MODIFIED:20211020T124328Z
UID:736-1642705200-1642716000@comicscrushingcancer.org
SUMMARY:Patrick Garrity Hosts Comics Crushing Cancer
DESCRIPTION:The “Lettuce Laugh” show benefiting Comics Crushing Cancer kicks off the New Year with Patrick Garrity! Jen Hellman will be hosting  the award-winning  comedian in North Palm Beach at The Farmer’s Table.   Get your Tickets Here BUY TICKETS NOW \nCorporate Sponsors Tables Click Here Corporate Sponsor Table
URL:https://comicscrushingcancer.org/event/patrick-garrity-hosts-comics-crushing-cancer/
LOCATION:Farmer’s Table  North Palm Beach\, 951 US-1 N.\, North Palm Beach\, Florida\, 33408
ATTACH;FMTTYPE=image/jpeg:https://comicscrushingcancer.org/wp-content/uploads/2021/10/Garrity_Patrick.jpg
ORGANIZER;CN="Comics Crushing Cancer":MAILTO:jen@jenhellmancomedy.com
END:VEVENT
BEGIN:VEVENT
DTSTART;TZID=America/New_York:20211208T190000
DTEND;TZID=America/New_York:20211208T210000
DTSTAMP:20260419T085532
CREATED:20211005T153544Z
LAST-MODIFIED:20211124T204255Z
UID:743-1638990000-1638997200@comicscrushingcancer.org
SUMMARY:Jamie Kennedy Headlines Comics Crushing Cancer-POSTPONED
DESCRIPTION:Regrettably\, we have to postpone this show because Jamie has been called to be on set this week. If you have purchased tickets to this event and would like a refund or credit to one of our upcoming shows please email info@comicscrushingcancer.org
URL:https://comicscrushingcancer.org/event/jamie-kennedy-headlines-comics-crushing-cancer/
LOCATION:Twisted Tuna\, 353 S US-1\, Jupiter\, Florida\, 33477\, United States
ATTACH;FMTTYPE=image/png:https://comicscrushingcancer.org/wp-content/uploads/2021/10/Screen-Shot-2021-11-24-at-3.41.58-PM.png
ORGANIZER;CN="Comics Crushing Cancer":MAILTO:jen@jenhellmancomedy.com
END:VEVENT
BEGIN:VEVENT
DTSTART;TZID=America/New_York:20211007T190000
DTEND;TZID=America/New_York:20211007T220000
DTSTAMP:20260419T085532
CREATED:20210812T121346Z
LAST-MODIFIED:20211005T155226Z
UID:719-1633633200-1633644000@comicscrushingcancer.org
SUMMARY:Lettuce Laugh Comedy Show Carl Rimi
DESCRIPTION:The “Lettuce Laugh” show benefiting Comics Crushing Cancer returns in October! Jen Hellman will be hosting  the award-winning actor and comedian\, Carl Rimi in North Palm Beach at The Farmer’s Table. With numerous TV and Movie credits\, Carl Rimi  is a must-see for comedy fans!  Get your Tickets Here BUY TICKETS NOW \nCorporate Sponsors Tables Click Here Corporate Sponsor Table \n4″x6″ Post Card Template.\nBUY TICKETS NOW
URL:https://comicscrushingcancer.org/event/lettuce-laugh-comedy-show-carl-rimi/
LOCATION:Farmer’s Table  North Palm Beach\, 951 US-1 N.\, North Palm Beach\, Florida\, 33408
ATTACH;FMTTYPE=image/jpeg:https://comicscrushingcancer.org/wp-content/uploads/2021/08/Lettuce-4x6reg500-SBS-3.jpg
END:VEVENT
BEGIN:VEVENT
DTSTART;TZID=America/New_York:20210722T190000
DTEND;TZID=America/New_York:20210722T220000
DTSTAMP:20260419T085532
CREATED:20210613T170904Z
LAST-MODIFIED:20210616T122322Z
UID:692-1626980400-1626991200@comicscrushingcancer.org
SUMMARY:Lettuce Laugh Show at Farmer's Table July-Flip Schultz
DESCRIPTION:Get your tickets for the The Lettuce Laugh Series returns in July with Headliner\, Flip Schultz! Help support Comics Crushing Cancer and come out for a diner and an exclusive comedy show right in North Palm Beach. The Farmer’s Table hosts this incredible dinner show in the Grand Ballroom and ask anyone\, you’ll never have so much fun supporting a great cause! Doors open at 7pm\, Show Starts at 8pm!  Get your tickets here GET MY TICKETS \nCorporate Sponsors Tables Click Here Corporate Sponsor Table \n 
URL:https://comicscrushingcancer.org/event/lettuce-laugh-show-at-farmers-table-july-flip-schultz/
LOCATION:Farmer’s Table  North Palm Beach\, 951 US-1 N.\, North Palm Beach\, Florida\, 33408
END:VEVENT
BEGIN:VEVENT
DTSTART;TZID=America/New_York:20210603T190000
DTEND;TZID=America/New_York:20210603T213000
DTSTAMP:20260419T085532
CREATED:20210509T145934Z
LAST-MODIFIED:20210509T153737Z
UID:671-1622746800-1622755800@comicscrushingcancer.org
SUMMARY:Lettuce Laugh Comedy Show at Farmer's Table
DESCRIPTION:The Lettuce Laugh Series returns in June with Headliner\, Dean Napolitano! Help support Comics Crushing Cancer and come out for a diner and an exclusive comedy show right in North Palm Beach. The Farmer’s Table hosts this incredible dinner show in the Grand Ballroom and ask anyone\, you’ll never have so much fun supporting a great cause! Doors open at 7pm\, Show Starts at 8pm \n \n  \nGet your tickets here https://www.eventbrite.com/e/lettuce-laugh-comedy-show-at-farmers-table-presents-dean-napolitano-tickets-154128184549
URL:https://comicscrushingcancer.org/event/lettuce-laugh/
LOCATION:Farmer’s Table  North Palm Beach\, 951 US-1 N.\, North Palm Beach\, Florida\, 33408
ATTACH;FMTTYPE=image/png:https://comicscrushingcancer.org/wp-content/uploads/2021/05/Screen-Shot-2021-05-09-at-10.41.56-AM.png
END:VEVENT
BEGIN:VEVENT
DTSTART;TZID=America/New_York:20210506T190000
DTEND;TZID=America/New_York:20210506T213000
DTSTAMP:20260419T085532
CREATED:20210405T224704Z
LAST-MODIFIED:20210405T230322Z
UID:654-1620327600-1620336600@comicscrushingcancer.org
SUMMARY:Lettuce Laugh Comedy Show at Farmer's Table North Palm Beach
DESCRIPTION:Lettuce Laugh Returns in May when Jen Hellman hosts Mike Vecchione from New York City! Vecchione has had several appearances on the  Tonight Show with Jimmy Fallon and is a regular on Comedy Central and at the Cellar in New York! Come share some good laughs and enjoy an evening benefiting Comics Crushing Cancer! \nGet your tickets at https://www.eventbrite.com/e/lettuce-laugh-comedy-show-at-farmers-table-tickets-149616094767 \n \n 
URL:https://comicscrushingcancer.org/event/lettuce-laugh-comedy-show-at-farmers-table-north-palm-beach/
LOCATION:Farmer’s Table  North Palm Beach\, 951 US-1 N.\, North Palm Beach\, Florida\, 33408
ATTACH;FMTTYPE=image/jpeg:https://comicscrushingcancer.org/wp-content/uploads/2021/04/Slide1-2.jpg
END:VEVENT
BEGIN:VEVENT
DTSTART;TZID=America/New_York:20210401T190000
DTEND;TZID=America/New_York:20210401T220000
DTSTAMP:20260419T085532
CREATED:20210329T182117Z
LAST-MODIFIED:20210329T182130Z
UID:648-1617303600-1617314400@comicscrushingcancer.org
SUMMARY:Comedy Show at Farmer's Table North Palm Beach
DESCRIPTION:Support Comics Crushing Cancer at the beautiful Farmer’s Table located in the North Palm Beach Country Club! Headliner Dale Jones and other friends of founder and North Palm Beach Resident\, Jen Hellman\, will kick of the comedy series Thursday April 1\, 2021. Click here for tickets Farmer’s Table Tickets
URL:https://comicscrushingcancer.org/event/comedy-show-at-farmers-table-north-palm-beach/
LOCATION:Farmer’s Table  North Palm Beach\, 951 US-1 N.\, North Palm Beach\, Florida\, 33408
ATTACH;FMTTYPE=image/jpeg:https://comicscrushingcancer.org/wp-content/uploads/2021/03/Lettuce-Laugh-Dale-Jones.jpg
ORGANIZER;CN="Comics Crushing Cancer":MAILTO:jen@jenhellmancomedy.com
END:VEVENT
BEGIN:VEVENT
DTSTART;TZID=America/New_York:20210331T200000
DTEND;TZID=America/New_York:20210331T220000
DTSTAMP:20260419T085532
CREATED:20210224T205554Z
LAST-MODIFIED:20210225T032614Z
UID:627-1617220800-1617228000@comicscrushingcancer.org
SUMMARY:Real Estate Round Up at Palm Beach Improv
DESCRIPTION:  \nCalling all movers and shakers in Real Estate! This night is about you!  A fun evening to show appreciation for everyone in the biz who makes the South Florida Real Estate market so great. Share a night of comedy with brokers\, agents\, support teams and of course your buyers and sellers.  Guests will enjoy a comedy show with some of the top talent in Florida and national headliner\, Dale Jones!  Your host will be Jen Hellman\, founder of Comics Crushing Cancer with special guests from American Me Comedy! \nAdmission is free but reservations are required to guarantee seating. Reserve your seat tickets at https://amcrealestateroundup.eventbrite.com \nTax deductible sponsorships available here Sponsorships
URL:https://comicscrushingcancer.org/event/real-estate-round-up-at-palm-beach-improv/
LOCATION:Palm Beach Improv\, 550 S Rosemary Ave STE 250\, West Palm Beach\, FL\, 33408\, United States
ATTACH;FMTTYPE=image/jpeg:https://comicscrushingcancer.org/wp-content/uploads/2021/02/Logo-r1.jpg
END:VEVENT
BEGIN:VEVENT
DTSTART;TZID=America/New_York:20200328T193000
DTEND;TZID=America/New_York:20200328T233000
DTSTAMP:20260419T085532
CREATED:20200304T214435Z
LAST-MODIFIED:20200304T214436Z
UID:618-1585423800-1585438200@comicscrushingcancer.org
SUMMARY:Comics Crushing Cancer Starring Jen Hellman at Mad Robot Brewing Company
DESCRIPTION:Join Jen Hellman and this excellent line-up for comedic talent at Mad Robot Brewing Company in Boca Raton\, Fl  Visit https://www.eventbrite.com/e/97007332543 to purchase tickets to the 8pm or 10pm show! \n100% of the proceeds goes to Comics Crushing Cancer to help women with all of the personal costs associated with Breast Cancer. Even the smallest donations help when it comes to these costs!
URL:https://comicscrushingcancer.org/event/comics-crushing-cancer-starring-jen-hellman-at-mad-robot-brewing-company/
LOCATION:Mad Robot Brewing Company\, 2621 N. Federal Highway Suite Y\, Boca Raton\, FL\, 33431\, United States
ATTACH;FMTTYPE=image/jpeg:https://comicscrushingcancer.org/wp-content/uploads/2020/03/Slide1.jpg
ORGANIZER;CN="Comics Crushing Cancer":MAILTO:jen@jenhellmancomedy.com
END:VEVENT
BEGIN:VEVENT
DTSTART;TZID=America/New_York:20180629T193000
DTEND;TZID=America/New_York:20180629T220000
DTSTAMP:20260419T085532
CREATED:20180501T143749Z
LAST-MODIFIED:20180501T145633Z
UID:540-1530300600-1530309600@comicscrushingcancer.org
SUMMARY:Mike Vecchione Headlines Comics Crushing Cancer
DESCRIPTION:PURCHASE TICKETS HERE https://www.eventbrite.com/e/mike-vecchione-headlines-comics-crushing-cancer-tickets-45684753327
URL:https://comicscrushingcancer.org/event/mike-vecchione-headlines-comics-crushing-cancer/
LOCATION:Bamboo Room Phoenix Charity Bar\, 25 S. J Street\, Lake Worth\, FL\, 33460\, United States
ATTACH;FMTTYPE=image/jpeg:https://comicscrushingcancer.org/wp-content/uploads/2018/05/12246871_10207707304871825_6667700697904619690_n.jpg
ORGANIZER;CN="Comics Crushing Cancer":MAILTO:jen@jenhellmancomedy.com
END:VEVENT
BEGIN:VEVENT
DTSTART;TZID=America/New_York:20180419T190000
DTEND;TZID=America/New_York:20180419T210000
DTSTAMP:20260419T085532
CREATED:20180102T133511Z
LAST-MODIFIED:20180119T211702Z
UID:531-1524164400-1524171600@comicscrushingcancer.org
SUMMARY:Comics Crushing Cancer Baltimore\, MD
DESCRIPTION:We are so excited to bring Comics Crushing Cancer to our Founder\, Jen Hellman’s\, home town of Baltimore\, Md!! Join for a great evening of laughs with Headliner\, Dean Napolitano. You’ve seen him on TV and the big screen and he is coming to Baltimore for one night only to help support Comics Crushing Cancer. \nSposnsorships are available\, Contact at 561-507-0194
URL:https://comicscrushingcancer.org/event/comics-crushing-cancer-baltimore-md/
LOCATION:Baltimore Comedy Factory\, 5625 O'Donnell Street\, Baltimore\, MD\, 21202\, United States
ORGANIZER;CN="Comics Crushing Cancer":MAILTO:jen@jenhellmancomedy.com
END:VEVENT
BEGIN:VEVENT
DTSTART;TZID=America/New_York:20180321T190000
DTEND;TZID=America/New_York:20180321T220000
DTSTAMP:20260419T085532
CREATED:20171229T050136Z
LAST-MODIFIED:20180119T211424Z
UID:528-1521658800-1521669600@comicscrushingcancer.org
SUMMARY:West Palm Beach Fundraiser
DESCRIPTION:Come and support Comics Crushing Cancer at our launch at the Palm Beach Improv! Comics Crushing Cancer founder\, Jen Hellman\, will host national headliner\, Dean Napolitano at this special event to introduce West Palm Beach to our organization. Come out and enjoy a great evening of laughs with Dean and feature guest\, Lisa Corrao when we come together to raise money to help women with  the costs associated with Cancer treatment. \nPurchase tickets at  https://www.eventbrite.com/e/comics-crushing-cancer-west-palm-beach-tickets-42368551478
URL:https://comicscrushingcancer.org/event/west-palm-beach-fundraiser/
LOCATION:Florida
ATTACH;FMTTYPE=image/jpeg:https://comicscrushingcancer.org/wp-content/uploads/2015/01/DeanNapolitano-1.jpg
END:VEVENT
END:VCALENDAR